BEGIN:VCALENDAR
VERSION:2.0
PRODID:-//youthlawcenter.org//NONSGML kigkonsult.se iCalcreator 2.30.10//
CALSCALE:GREGORIAN
METHOD:PUBLISH
UID:90ebb455-4672-46b7-86c5-afb48b239f1d
X-WR-CALDESC:
X-WR-RELCALID:8ceacb53f926411a9fe4a51b6512531d
X-WR-TIMEZONE:America/Chicago
BEGIN:VTIMEZONE
TZID:America/Chicago
BEGIN:STANDARD
TZNAME:CST
DTSTART:20211107T020000
TZOFFSETFROM:-0500
TZOFFSETTO:-0600
RDATE:20221106T020000
RDATE:20231105T020000
END:STANDARD
BEGIN:DAYLIGHT
TZNAME:CDT
DTSTART:20220313T020000
TZOFFSETFROM:-0600
TZOFFSETTO:-0500
RDATE:20230312T020000
RDATE:20240310T020000
END:DAYLIGHT
END:VTIMEZONE
BEGIN:VEVENT
UID:abc12572-45d5-4e7e-b2df-2ad6cc195587
DTSTAMP:20260425T211326Z
DESCRIPTION:
DTSTART;TZID=America/Chicago:20220922T184500
DTEND;TZID=America/Chicago:20220922T194500
LOCATION:Four Oaks-Ankeny Location
SUMMARY:Kristen Condon Speaks at PSMAPP Training
END:VEVENT
END:VCALENDAR
