BEGIN:VCALENDAR
VERSION:2.0
PRODID:-//youthlawcenter.org//NONSGML kigkonsult.se iCalcreator 2.30.10//
CALSCALE:GREGORIAN
METHOD:PUBLISH
UID:0a0c1d08-c640-4d60-af74-20945511a4a2
X-WR-CALDESC:
X-WR-RELCALID:9d1bde740aa512b11209017bfa880757
X-WR-TIMEZONE:America/Chicago
BEGIN:VTIMEZONE
TZID:America/Chicago
BEGIN:STANDARD
TZNAME:CST
DTSTART:20211107T020000
TZOFFSETFROM:-0500
TZOFFSETTO:-0600
RDATE:20221106T020000
RDATE:20231105T020000
END:STANDARD
BEGIN:DAYLIGHT
TZNAME:CDT
DTSTART:20220313T020000
TZOFFSETFROM:-0600
TZOFFSETTO:-0500
RDATE:20230312T020000
RDATE:20240310T020000
END:DAYLIGHT
END:VTIMEZONE
BEGIN:VEVENT
UID:45c123a5-5f0c-40d1-b094-c1bcb3f811c3
DTSTAMP:20260425T211030Z
DESCRIPTION:
DTSTART;TZID=America/Chicago:20220929T111500
DTEND;TZID=America/Chicago:20220929T121500
LOCATION:Wallace State Office Building
SUMMARY:Jami Hagemeier Speaks at State Public Defender New Attorney Juvenil
 e Law Training
END:VEVENT
END:VCALENDAR
