BEGIN:VCALENDAR
VERSION:2.0
PRODID:-//youthlawcenter.org//NONSGML kigkonsult.se iCalcreator 2.30.10//
CALSCALE:GREGORIAN
METHOD:PUBLISH
UID:9a743126-10c9-4179-9876-1c021fc27e9a
X-WR-CALDESC:
X-WR-RELCALID:bbf2ab4ada8c25f0d03ea7ee7e51fb24
X-WR-TIMEZONE:America/Chicago
BEGIN:VTIMEZONE
TZID:America/Chicago
BEGIN:STANDARD
TZNAME:CST
DTSTART:20211107T020000
TZOFFSETFROM:-0500
TZOFFSETTO:-0600
RDATE:20221106T020000
RDATE:20231105T020000
END:STANDARD
BEGIN:DAYLIGHT
TZNAME:CDT
DTSTART:20220313T020000
TZOFFSETFROM:-0600
TZOFFSETTO:-0500
RDATE:20230312T020000
RDATE:20240310T020000
END:DAYLIGHT
END:VTIMEZONE
BEGIN:VEVENT
UID:6119a907-5bde-40ce-9756-f78d2a65f33d
DTSTAMP:20260425T180825Z
DESCRIPTION:
DTSTART;TZID=America/Chicago:20221101T120000
DTEND;TZID=America/Chicago:20221101T130000
LOCATION:
SUMMARY:Jami Hagemeier Presents at Iowa State Bar Association \, '1 Kid-2 C
 ourts...How Many Lawyers?'
END:VEVENT
END:VCALENDAR
