BEGIN:VCALENDAR
VERSION:2.0
PRODID:-//youthlawcenter.org//NONSGML kigkonsult.se iCalcreator 2.30.10//
CALSCALE:GREGORIAN
METHOD:PUBLISH
UID:f9497b99-fcdb-43ed-8802-bfe01fea08ae
X-WR-CALDESC:
X-WR-RELCALID:781d4effc7b57ac5db7c03fba892d12e
X-WR-TIMEZONE:America/Chicago
BEGIN:VTIMEZONE
TZID:America/Chicago
BEGIN:STANDARD
TZNAME:CST
DTSTART:20221106T020000
TZOFFSETFROM:-0500
TZOFFSETTO:-0600
RDATE:20231105T020000
END:STANDARD
BEGIN:DAYLIGHT
TZNAME:CDT
DTSTART:20220313T020000
TZOFFSETFROM:-0600
TZOFFSETTO:-0500
RDATE:20230312T020000
RDATE:20240310T020000
END:DAYLIGHT
END:VTIMEZONE
BEGIN:VEVENT
UID:ff71c970-7716-4252-8073-c0ae5f4a47a7
DTSTAMP:20260425T181238Z
DESCRIPTION:
DTSTART;TZID=America/Chicago:20221110T083000
DTEND;TZID=America/Chicago:20221110T093000
LOCATION:
SUMMARY:Jami Hagemeier Presents at Iowa Criminal Defense Lawyers Associatio
 n\,  'Interviewing Clients in Juvenile Court'
END:VEVENT
END:VCALENDAR
