BEGIN:VCALENDAR
VERSION:2.0
PRODID:-//youthlawcenter.org//NONSGML kigkonsult.se iCalcreator 2.30.10//
CALSCALE:GREGORIAN
METHOD:PUBLISH
UID:05c04148-1b2d-4ca2-aeed-920ec3367beb
X-WR-CALDESC:
X-WR-RELCALID:e3a17da2eeccdd3d0bd69b55ad850191
X-WR-TIMEZONE:America/Chicago
BEGIN:VTIMEZONE
TZID:America/Chicago
BEGIN:STANDARD
TZNAME:CST
DTSTART:20221106T020000
TZOFFSETFROM:-0500
TZOFFSETTO:-0600
RDATE:20231105T020000
RDATE:20241103T020000
END:STANDARD
BEGIN:DAYLIGHT
TZNAME:CDT
DTSTART:20230312T020000
TZOFFSETFROM:-0600
TZOFFSETTO:-0500
RDATE:20240310T020000
END:DAYLIGHT
END:VTIMEZONE
BEGIN:VEVENT
UID:8c4c2a88-a5b8-401f-9b91-a66678a737c5
DTSTAMP:20260425T110626Z
DESCRIPTION:
DTSTART;TZID=America/Chicago:20230805T000000
DTEND;TZID=America/Chicago:20230805T235900
LOCATION:
SUMMARY:Reunification Picnic @ Pete Crivaro Park
END:VEVENT
END:VCALENDAR
