BEGIN:VCALENDAR
VERSION:2.0
PRODID:-//youthlawcenter.org//NONSGML kigkonsult.se iCalcreator 2.30.10//
CALSCALE:GREGORIAN
METHOD:PUBLISH
UID:e37505ee-7cd1-4b58-acf6-16758786915c
X-WR-CALDESC:
X-WR-RELCALID:82d92a7073710cb730259ac86de9f353
X-WR-TIMEZONE:America/Chicago
BEGIN:VTIMEZONE
TZID:America/Chicago
BEGIN:STANDARD
TZNAME:CST
DTSTART:20221106T020000
TZOFFSETFROM:-0500
TZOFFSETTO:-0600
RDATE:20231105T020000
RDATE:20241103T020000
END:STANDARD
BEGIN:DAYLIGHT
TZNAME:CDT
DTSTART:20230312T020000
TZOFFSETFROM:-0600
TZOFFSETTO:-0500
RDATE:20240310T020000
RDATE:20250309T020000
END:DAYLIGHT
END:VTIMEZONE
BEGIN:VEVENT
UID:388cf5dc-37c6-48ba-88b5-893edb006f95
DTSTAMP:20260425T122209Z
DESCRIPTION:
DTSTART;TZID=America/Chicago:20230915T000000
DTEND;TZID=America/Chicago:20230915T235900
LOCATION:Drake Law School Legal Clinic
SUMMARY:Cohen Juvenile Practice Series-The Art of Effective Advocacy
END:VEVENT
END:VCALENDAR
