BEGIN:VCALENDAR
VERSION:2.0
PRODID:-//youthlawcenter.org//NONSGML kigkonsult.se iCalcreator 2.30.10//
CALSCALE:GREGORIAN
METHOD:PUBLISH
UID:a72e10d9-6b8f-4385-a6e3-4fa08522ed97
X-WR-CALDESC:
X-WR-RELCALID:44e1e098d0616015beb88d541823d268
X-WR-TIMEZONE:America/Chicago
BEGIN:VTIMEZONE
TZID:America/Chicago
BEGIN:STANDARD
TZNAME:CST
DTSTART:20231105T020000
TZOFFSETFROM:-0500
TZOFFSETTO:-0600
RDATE:20241103T020000
END:STANDARD
BEGIN:DAYLIGHT
TZNAME:CDT
DTSTART:20230312T020000
TZOFFSETFROM:-0600
TZOFFSETTO:-0500
RDATE:20240310T020000
RDATE:20250309T020000
END:DAYLIGHT
END:VTIMEZONE
BEGIN:VEVENT
UID:59b71d2d-4672-49de-8bad-31d1dc629b95
DTSTAMP:20260425T162041Z
DESCRIPTION:
DTSTART;TZID=America/Chicago:20231209T100000
DTEND;TZID=America/Chicago:20231209T150000
LOCATION:Blank Park Zoo\, 7401 SW Ninth Street\, Des Moines\, IA 50315 US
SUMMARY:Operation Sanata
END:VEVENT
END:VCALENDAR
