BEGIN:VCALENDAR
VERSION:2.0
PRODID:-//youthlawcenter.org//NONSGML kigkonsult.se iCalcreator 2.30.10//
CALSCALE:GREGORIAN
METHOD:PUBLISH
UID:b15d9ce4-8c5e-4ec6-84ad-119f5a2c9ecf
X-WR-CALDESC:
X-WR-RELCALID:e80389ae7425098d4b01fce5aaa19e0b
X-WR-TIMEZONE:America/Chicago
BEGIN:VTIMEZONE
TZID:America/Chicago
BEGIN:STANDARD
TZNAME:CST
DTSTART:20231105T020000
TZOFFSETFROM:-0500
TZOFFSETTO:-0600
RDATE:20241103T020000
END:STANDARD
BEGIN:DAYLIGHT
TZNAME:CDT
DTSTART:20230312T020000
TZOFFSETFROM:-0600
TZOFFSETTO:-0500
RDATE:20240310T020000
RDATE:20250309T020000
END:DAYLIGHT
END:VTIMEZONE
BEGIN:VEVENT
UID:1dcd8f5f-b5a4-4471-b8c9-7ec63f729e35
DTSTAMP:20260425T163415Z
DESCRIPTION:
DTSTART;TZID=America/Chicago:20231215T080000
DTEND;TZID=America/Chicago:20231215T130000
LOCATION:222 5th Avenue\, Polk County Justice Center-2nd Floor\, Des Moines
 \, IA 50309 US
SUMMARY:20th Annual Adoption Day
END:VEVENT
END:VCALENDAR
